BEGIN:VCALENDAR
VERSION:2.0
PRODID:-// eRoom plugin //NONSGML v1.0//EN
CALSCALE:GREGORIAN
BEGIN:VEVENT
UID:eRoom-1776766009
SUMMARY:JEE Lesson 1
LOCATION:Zoom
DESCRIPTION:JEE Lesson 1 is inviting you to a scheduled Zoom meeting.\n\nJo
 in Zoom Meeting\nhttps://us02web.zoom.us/j/89553182509?pwd=eWVjcmdrMTd2Ukd
 6d1VhbXJTcVA3Zz09\n\nMeeting ID: 89553182509\nPasscode: mas123\n
URL;VALUE=URI:https://us02web.zoom.us/j/89553182509?pwd=eWVjcmdrMTd2Ukd6d1VhbXJTcVA3Zz09
DTSTART:20210124T143000Z
DTEND:20210124T143200Z
DTSTAMP:20260421T100649Z
BEGIN:VALARM
ACTION:DISPLAY
DESCRIPTION:Reminder
TRIGGER;RELATED=START:-PT15M
END:VALARM
END:VEVENT
END:VCALENDAR